BEGIN:VCALENDAR
VERSION:2.0
PRODID:-//eventon.com NONSGML v1.0//EN
BEGIN:VEVENT
UID:69e5eb35e9301
DTSTAMP:20260420T090037
DTSTART:20210724
DTEND:20210725
TZID:Europe/Rome
LOCATION:
SUMMARY:Ingresso + Ombrellone/Gazebo
DESCRIPTION: Ingresso + Ombrellone/Gazebo
URL:https://prenotavilladocama.it/events/ingresso-ombrellone-gazebo-35/
END:VEVENT
END:VCALENDAR